BEGIN:VCALENDAR
VERSION:2.0
PRODID:-//hacksw/handcal//NONSGML v1.0//EN
CALSCALE:GREGORIAN
BEGIN:VEVENT
ORGANIZER;CN=ICU Medical:MAILTO:no-reply@mail.gcs-web.com
DTEND:
UID:fe3089e5-f416-4144-bb28-ce25433191da
DTSTAMP:1777131135
LOCATION:https://viavid.webcasts.com/starthere.jsp?ei=1758526&tp_key=13685bf506
DESCRIPTION:Event Details https://ir.icumed.com/events/event-details/icu-medical-inc-first-quarter-2026-earnings-conference-call\n\nWebcast: https://viavid.webcasts.com/starthere.jsp?ei=1758526&tp_key=13685bf506
URL;VALUE=URI:https://viavid.webcasts.com/starthere.jsp?ei=1758526&tp_key=13685bf506
SUMMARY:ICU Medical - ICU Medical, Inc. First Quarter 2026 Earnings Conference Call
DTSTART:20260507T203000Z
END:VEVENT
END:VCALENDAR